BEGIN:VCALENDAR
VERSION:2.0
PRODID:-//hacksw/handcal//NONSGML v1.0//EN
BEGIN:VEVENT
SUMMARY:STAGE LOISIRS
UID:bbb65fcd-70aa-4516-81eb-c1cf7d98700f
DTSTART:20260412T220000Z
DTEND:20260417T220000Z
LOCATION:Localisation   
CATEGORIES:Stage
STATUS:
URL;VALUE=URI:https://spucgympessac.sportsregions.fr/evenements/2026/04/13/stage-loisirs-2437875
END:VEVENT
END:VCALENDAR
