BEGIN:VCALENDAR
VERSION:2.0
PRODID:-//hacksw/handcal//NONSGML v1.0//EN
BEGIN:VEVENT
SUMMARY:Matinee eveil et baby
UID:1ae0736b-d165-4ca5-8ee0-5e14d536c9b8
DTSTART:20260408T073000Z
DTEND:20260408T100000Z
LOCATION:Localisation   
CATEGORIES:Sportif
STATUS:
URL;VALUE=URI:https://spucgympessac.sportsregions.fr/evenements/2026/04/08/matinee-eveil-et-baby-2437874
END:VEVENT
END:VCALENDAR
