BEGIN:VCALENDAR
VERSION:2.0
PRODID:-//hacksw/handcal//NONSGML v1.0//EN
BEGIN:VEVENT
SUMMARY:Competition regionale - Federal A
UID:8fb2e686-a4e9-46c6-ba57-837e49fd03b6
DTSTART:20260404T220000Z
DTEND:20260405T220000Z
LOCATION:Localisation   
CATEGORIES:Sportif
STATUS:
URL;VALUE=URI:https://spucgympessac.sportsregions.fr/evenements/2026/04/05/competition-regionale-federal-a-2437853
END:VEVENT
END:VCALENDAR
